BEGIN:VCALENDAR
VERSION:2.0
PRODID:-//Greymouth &amp; Kumara Anglican Parish - ECPv4.9.12//NONSGML v1.0//EN
CALSCALE:GREGORIAN
METHOD:PUBLISH
X-WR-CALNAME:Greymouth &amp; Kumara Anglican Parish
X-ORIGINAL-URL:https://www.greymouthanglican.co.nz
X-WR-CALDESC:Events for Greymouth &amp; Kumara Anglican Parish
BEGIN:VTIMEZONE
TZID:UTC
BEGIN:STANDARD
TZOFFSETFROM:+0000
TZOFFSETTO:+0000
TZNAME:UTC
DTSTART:20160101T000000
END:STANDARD
END:VTIMEZONE
BEGIN:VEVENT
DTSTART;TZID=UTC:20161204T100000
DTEND;TZID=UTC:20161204T113000
DTSTAMP:20191222T135404
CREATED:20161025T090159Z
LAST-MODIFIED:20161025T090450Z
UID:601-1480845600-1480851000@www.greymouthanglican.co.nz
SUMMARY:Admission to Communion
DESCRIPTION:
URL:https://www.greymouthanglican.co.nz/event/admission-to-communion/
END:VEVENT
END:VCALENDAR